BEGIN:VCALENDAR
VERSION:2.0
PRODID:-//wp-events-plugin.com//6.6.4.4//EN
TZID:Europe/Berlin
X-WR-TIMEZONE:Europe/Berlin
BEGIN:VEVENT
UID:46@stauf.org
DTSTART;TZID=Europe/Berlin:20231019T170000
DTEND;TZID=Europe/Berlin:20231019T170000
DTSTAMP:20231018T210647Z
URL:https://stauf.org/events/kennenlerntreffen-freiberg/
SUMMARY:Kennenlerntreffen Freiberg
DESCRIPTION:
ATTACH;FMTTYPE=image/jpeg:https://stauf.org/wp-content/uploads/2023/10/pho
 to1697662969.jpeg
CATEGORIES:Kennenlerntreffen
LOCATION:Schwedendenkmal\, Freiberg\, Freiberg\, Deutschland
X-APPLE-STRUCTURED-LOCATION;VALUE=URI;X-ADDRESS=Freiberg\, Freiberg\, Deuts
 chland;X-APPLE-RADIUS=100;X-TITLE=Schwedendenkmal:geo:0,0
END:VEVENT
BEGIN:VTIMEZONE
TZID:Europe/Berlin
X-LIC-LOCATION:Europe/Berlin
BEGIN:DAYLIGHT
DTSTART:20230326T030000
TZOFFSETFROM:+0100
TZOFFSETTO:+0200
TZNAME:CEST
END:DAYLIGHT
END:VTIMEZONE
END:VCALENDAR