BEGIN:VCALENDAR
VERSION:2.0
PRODID:-//wp-events-plugin.com//6.6.4.4//EN
TZID:Europe/Berlin
X-WR-TIMEZONE:Europe/Berlin
BEGIN:VEVENT
UID:83@stauf.org
DTSTART;TZID=Europe/Berlin:20240405T190000
DTEND;TZID=Europe/Berlin:20240405T190000
DTSTAMP:20240402T204249Z
URL:https://stauf.org/events/lagerfeuer-dresden-4/
SUMMARY:Lagerfeuer Dresden
DESCRIPTION:[et_pb_section fb_built="1" admin_label="section" _builder_vers
 ion="4.16" global_colors_info="{}"][et_pb_row admin_label="row" _builder_v
 ersion="4.16" background_size="initial" background_position="top_left" bac
 kground_repeat="repeat" global_colors_info="{}"][et_pb_column type="4_4" _
 builder_version="4.16" custom_padding="|||" global_colors_info="{}" custom
 _padding__hover="|||"][et_pb_text _builder_version="4.21.0" _module_preset
 ="default" hover_enabled="0" sticky_enabled="0"]Stauf-Lagerfeuer am kommen
 den Freitag\nDas Lagerfeuer soll Möglichkeit zum Kennenlernen und Austaus
 chen geben.\nOrt: Feuerstelle bei der Fährstelle NeustadtZeit: Freitag\,
  05.04.24\, ab 19:00 Uhr[/et_pb_text][/et_pb_column][/et_pb_row][/et_pb_se
 ction]
ATTACH;FMTTYPE=image/jpeg:https://stauf.org/wp-content/uploads/2024/04/pho
 to1712078676-e1712090421577.jpeg
CATEGORIES:Kennenlerntreffen
LOCATION:Feuerstelle\, bei der Fährstelle Neustadt\, Dresden\, Deutschland
X-APPLE-STRUCTURED-LOCATION;VALUE=URI;X-ADDRESS=bei der Fährstelle Neustad
 t\, Dresden\, Deutschland;X-APPLE-RADIUS=100;X-TITLE=Feuerstelle:geo:0,0
END:VEVENT
BEGIN:VTIMEZONE
TZID:Europe/Berlin
X-LIC-LOCATION:Europe/Berlin
BEGIN:DAYLIGHT
DTSTART:20240331T030000
TZOFFSETFROM:+0100
TZOFFSETTO:+0200
TZNAME:CEST
END:DAYLIGHT
END:VTIMEZONE
END:VCALENDAR