BEGIN:VCALENDAR
VERSION:2.0
PRODID:-//wp-events-plugin.com//6.6.4.4//EN
TZID:Europe/Berlin
X-WR-TIMEZONE:Europe/Berlin
BEGIN:VEVENT
UID:96@stauf.org
DTSTART;TZID=Europe/Berlin:20240704T180000
DTEND;TZID=Europe/Berlin:20240704T180000
DTSTAMP:20240627T160213Z
URL:https://stauf.org/events/lesekreis-muenchen/
SUMMARY:Lesekreis München
DESCRIPTION:[et_pb_section fb_built="1" admin_label="section" _builder_vers
 ion="4.16" global_colors_info="{}"][et_pb_row admin_label="row" _builder_v
 ersion="4.16" background_size="initial" background_position="top_left" bac
 kground_repeat="repeat" global_colors_info="{}"][et_pb_column type="4_4" _
 builder_version="4.16" custom_padding="|||" global_colors_info="{}" custom
 _padding__hover="|||"][et_pb_text _builder_version="4.21.0" _module_preset
 ="default" hover_enabled="0" global_colors_info="{}" sticky_enabled="0"]Al
 s Nächstes wollen wir gemeinsam Das neue Volk von Simon Kießling lesen (
 hier erhältlich) — ein kleines 88-seitiges Buch mit viel Inhalt\, über
  den man nachdenken und diskutieren kann\, egal wie man sich selbst politi
 sch zuordnet. Vor allem in Zeiten\, in denen der Begriff 'Remigration' so 
 präsent wie noch nie ist\, wird hier eine alternative Sichtweise geboten.
 \nDafür treffen wir uns am Abend des 4. Juli um 18 Uhr zur Besprechung un
 d Diskussion des Buches\, was bis dahin jeder gelesen haben sollte. Um hie
 ran teilzunehmen\, muss man nicht beim vorherigen Lesekreis dabei gewesen 
 sein.\nAnmeldung für den Treffpunkt per E-Mail an lesekreis@hotmail.com[/
 et_pb_text][/et_pb_column][/et_pb_row][/et_pb_section]
LOCATION:München\,  \,  \, Deutschland
X-APPLE-STRUCTURED-LOCATION;VALUE=URI;X-ADDRESS= \,  \, Deutschland;X-APPLE
 -RADIUS=100;X-TITLE=München:geo:0,0
END:VEVENT
BEGIN:VTIMEZONE
TZID:Europe/Berlin
X-LIC-LOCATION:Europe/Berlin
BEGIN:DAYLIGHT
DTSTART:20240331T030000
TZOFFSETFROM:+0100
TZOFFSETTO:+0200
TZNAME:CEST
END:DAYLIGHT
END:VTIMEZONE
END:VCALENDAR